Workbook

Sheet Front page
A11: Girlguiding
B12: Fire risk assessment
A17: Location: | B17: Ladenford Den
A19: Date of FRA: | B19: 44673
A21: Carried out by: | B21: Carol Edwards
A24: Property description: | B24: Ladenford Den is the County Campsite of Girlguiding Angus. Safety within the hut and campsite is managed by the Ladenford Committee, the chair of Ladenford Committee being the responsible person. The hut consists if a single building of timber construction. The space is sub divided into the following rooms:- • Main hall • Two sets of toilet/shower facilities • Leader’s Room • Kitchen • Access hallway • Campstore • Outside steps The hut is regularly used for indoor holidays, training activities and day events. The head count varies dependent on the activity but may range from 10 to 26 including leaders and other adults. This number can increase for short periods when parents are present to collect children.

Sheet Summary
A1: Girlguiding fire risk assessment form
A3: To be completed by Assessor | B3: Name/area: | D3: Ladenford Den
B4: Name of person conducting assessment | D4: Carol Edwards | F4: Signature Signed on original
B5: Contact telephone no. and email address | D5: Ladenford@girlguidingangus.org.uk | F5: Tel:07903122714
B6: Name of company responsible for this area | D6: Girlguiding Angus
B7: Name of responsible person | D7: Carol Edwards
B8: Persons consulted | D8: Angus Fire Service
B9: Date of assessment | D9: 44673 | F9: Re-assessed June 2025
B10: Fire risk assessment scoring | F10: A | G10: B | H10: C | I10: D | J10: E
F11: Risk of ignition | G11: Items that may burn | H11: Means of escape | I11: Management control | J11: Testing & maintenance control
B12: Fire risk assessment example | F12: =Ignition!$G$46 -> 0 | G12: =Burn!$G$44 -> 0 | H12: =Escape!$G$23 -> 0 | I12: ='Management control'!$G$36 -> 0 | J12: ='Test & main control'!$G$34 -> 0
B13: Scores at these levels or higher must be reported to the H&S manager | F13: 5 | G13: 5 | H13: 5 | I13: 5 | J13: 5
B14: Residual risk (circle one only) where medium or above is recorded the head of property must be notified. | F14: Low | H14: Medium | J14: High
B15: Now go to action points!
B16: Summary: Risk is considered to be low, this site is managed very well

Sheet General
B1: General Information
B3: Question | C3: Please delete items that are not applicable and apply additional information as required
A4: G1. | B4: Use of premises | C4: residential events by members of Girlguiding and Scouting
A5: G2. | B5: Persons who may use the premises | C5: Any trained leader of either organisation
B6: Floor space factors
A7: G3. | B7: Staff/groups that require additional consideration (people with disabilities and long-term conditions) | C7: Groups hiring Ladenford may include members with disabilities. They will be considered in the groups own RA
A8: G4. | B8: Details of construction | C8: wooden hut
A9: G5. | B9: Details of internal linings | C9: wood
A10: G6. | B10: Approximate floor area m² per floor or total floor area m²
A11: Girlguiding | B11: Number of floors | C11: one
A12: G8. | B12: Number of Stairs | C12: steps up to entrance door
A13: G9. | B13: Hours of operation | C13: periodic
A14: G10. | B14: Users of the associated space and further information relating to the space
A15: G11 | B15: Areas not included within this fire risk assessment but have been subject to an independent FRA,
A16: G12 | B16: Smoke ventilation
A17: G13 | B17: Emergency Lighting | C17: installed by Ness Electricals/checked 2025 by Jim Batchelor
A18: G14 | B18: Smoke Curtains/Fire Shutters | C18: none
A19: G15 | B19: Date carried out
A20: G16 | B20: Dry Risers | C20: none
A21: G17 | B21: Fire Fighting Access
A22: G18 | B22: Fire loss experience | C22: none
A23: G19 | B23: Other relevant information: Have previous risk assessments been revised or reviewed as part of this fire risk assessment? | C23: yes previous RA dated 2017 now updated on installation of new smoke alarm system. RA updated annually if any changes.

Sheet Ignition
B1: Section A - IGNITION
D2: Property
A3: Ref | B3: Section A | C3: Sources of ignition? | D3: Advice | E3: PREF ANS | F3: Yes/no/ NA | G3: Risk scoring | H3: Comments | I3: Action required | J3: Date completed
A4: A1 | B4: Smoking, smokers materials, cigarette ends, matches etc. | C4: Is there a no smoking policy & is it being enforced? | D4: Smoking is not allowed inside any building or vehicles belonging to Girlguiding. | F4: Yes | G4: =IF(F4="YES",0,IF(F4="NO",1,IF(F4="NA",0,IF(F4="",0)))) -> 0 | J4: 45809
C5: Is smoking only allowed in designated areas? | D5: No smoking is allowed on any part of Ladenford Den grounds | E5: YES | F5: NA | G5: =IF(F5="YES",0,IF(F5="NO",1,IF(F5="NA",0,IF(F5="",0)))) -> 0 | J5: 45809
C6: Are metal ashtrays and containers provided within smoking area? | D6: N/A | E6: YES | F6: NA | G6: =IF(F6="YES",0,IF(F6="NO",1,IF(F6="NA",0,IF(F6="",0)))) -> 0 | J6: 45809
C7: Is smoking waste disposed of sensibly and not with general waste? | D7: N/A | E7: YES | F7: NA | G7: =IF(F7="YES",0,IF(F7="NO",1,IF(F7="NA",0,IF(F7="",0)))) -> 0 | J7: 45809
C8: Are notices posted of smoking arrangements and prohibitions? | D8: Yes | E8: YES | F8: Yes | G8: =IF(F8="YES",0,IF(F8="NO",1,IF(F8="NA",0,IF(F8="",0)))) -> 0 | H8: No smoking signs displayed | J8: 45809
B9: Total | E9: 0 | G9: =SUM(G4:G8) -> 0
A10: A2 | B10: Naked flames | C10: Freestanding mulit fuel stove in main hall | D10: Fireguard in situ, use of fire supervised by leaders at all times,chimney swept annually, appliance will be very hot while in use so use fire resistant glove supplied, do not store wood close to stove ie. within fire recess | E10: YES | F10: yes | G10: =IF(F10="YES",0,IF(F10="NO",1,IF(F10="NA",0,IF(F10="",0)))) -> 0 | H10: Installation and operating instruction booklet can be found in purple folder. All users should read this booklet. Stove newly installed in June 2025 by Andrew Soutar of Forfar. | I10: Chimney to be swept in June annually. | J10: 45809
C11: Campfires/cooking fires outside the premises | D11: Fires supervised, participants to be trained in fire safety, fire buckets in situ at fires. | E11: YES | F11: yes | G11: =IF(F11="YES",0,IF(F11="NO",1,IF(F11="NA",0,IF(F11="",0)))) -> 0 | J11: 45809
B12: Total | E12: 30 | G12: =SUM(G10:G11) -> 0
A13: A3 | B13: Electric Immersion heater in hot water tank | C13: Is it inspected and serviced at suitable intervals as required by the manufacturer and legislation? | D13: This equipment should be serviced at the intervals recommended by the manufacturer, to ensure that it works properly. There should be an annual test/service certificate provided by the service engineer, confirming it is safe to use. | E13: YES | F13: yes | G13: =IF(F13="YES",0,IF(F13="NO",1,IF(F13="NA",0,IF(F13="",0)))) -> 0 | I13: Immersion heater checked as part of EIRC carried out | J13: 45809
C14: All fuses or circuit breakers of the correct rating and suitable for purpose? | D14: Checked at each 5 year inspection. | E14: YES | F14: Yes | G14: =IF(F14="YES",0,IF(F14="NO",1,IF(F14="NA",0,IF(F14="",0)))) -> 0 | J14: 45809
E15: 12 | G15: =SUM(G13:G14) -> 0
A16: A4 | B16: Portable heaters | C16: Electric heater in leaders room PAT tested | D16: PAT testing should be carried out as per guidelines. Regular visual checks should be made by users. | E16: YES | F16: yes | G16: =IF(F16="YES",0,IF(F16="NO",1,IF(F16="NA",0,IF(F16="",0)))) -> 0 | J16: 45809
C17: Portable heaters turned off after use. | D17: Portable heaters should never be left on when no one is around. | E17: NA | F17: Yes | G17: =IF(F17="YES",0,IF(F17="NO",1,IF(F17="NA",0,IF(F17="",0)))) -> 0 | J17: 45809
B18: Total | E18: 4 | G18: =SUM(G16:G17) -> 0
A19: A5 | B19: Machinery and equipment | C19: Strimmer and electric extension cable stored in camp store | D19: Instructions for use kept with device. Strimmer only to be used by adults/committee members | E19: YES | F19: Yes | G19: =IF(F19="YES",0,IF(F19="NO",1,IF(F19="NA",0,IF(F19="",0)))) -> 0 | H19: Warning signs displayed | J19: 45809
C20: Is it subject to routine maintenance by a competent person? | D20: Strimmer and electric extension cable PAT tested annually. Extension cable to be fully unwound when being used oudoors as per manufacturers instructions. | E20: YES | F20: yes | G20: =IF(F20="YES",0,IF(F20="NO",1,IF(F20="NA",0,IF(F20="",0)))) -> 0 | J20: 45809
B21: Total | G21: =SUM(G19:G20) -> 0
A22: A6 | B22: Ventilation system | C22: None in this building. | E22: YES | F22: NA | G22: =IF(F22="YES",0,IF(F22="NO",1,IF(F22="NA",0,IF(F22="",0)))) -> 0 | J22: 45809
B23: Total | G23: =SUM(G22:G22) -> 0
A24: A7 | B24: Friction, ie worn bearings, slipping belts etc | C24: No equipment on site likely to give rise to friction. | E24: YES | F24: NA | G24: =IF(F24="YES",0,IF(F24="NO",1,IF(F24="NA",0,IF(F24="",0)))) -> 0 | J24: 45809
B25: Total | G25: =SUM(G24:G24) -> 0
A26: A11 | B26: Cooking | C26: There are two electric cookers plus a microwave oven in the kitchen and gas stoves may be used on campsite all included in RA | D26: Buildings will have cooking equipment in kitchens. There are external areas (campfire circle & portable altar fires) where cooking takes place. There is a wooden shelter (camp kitchen) suitable for setting up portable gas stoves. | E26: Yes | F26: yes | G26: =IF(F26="YES",0,IF(F26="NO",1,IF(F26="NA",0,IF(F26="",0)))) -> 0 | H26: Cookers should be switched off at the wall when not in use. | J26: 45809
C27: Cooking only allowed in specific and suitable areas, namely kitchen, outdoor altar fires and wooden camp site shelters. | D27: Cooking is only allowed in specific areas in buildings. Where there are events, cooking is carried out externally and placed in areas well away from combustible material. | E27: YES | F27: Yes | G27: =IF(F27="YES",0,IF(F27="NO",1,IF(F27="NA",0,IF(F27="",0)))) -> 0 | I27: • Cooking fires only to be used in designated areas • Fire buckets containing clean water always present • Leaders to train users in fire safety and supervise as appropriate for age • All users to be aware of fire extinguisher/sand buckets in the campstore | J27: 45809
B28: Total | G28: =SUM(G26:G27) -> 0
A29: A12 | B29: Electrical supplies and equipment. Faulty/misused electrical equipment. Lighting equipment. | C29: All electrical installations apparently installed by competent persons. | D29: Only qualified competent persons can carry out electrical installations. | E29: YES | F29: yes | G29: =IF(F29="YES",0,IF(F29="NO",1,IF(F29="NA",0,IF(F29="",0)))) -> 0 | J29: 45809
C30: Are fixed electrical installations and equipment subject to routine testing and inspection by a competent person? | D30: Fixed electrical installations are required to be inspected every 5 years for most buildings. | E30: YES | F30: Yes | G30: =IF(F30="YES",0,IF(F30="NO",1,IF(F30="NA",0,IF(F30="",0)))) -> 0 | H30: Inspection due in June 2027 | J30: 45809
C31: All portable equipment subject to PAT regime. | D31: This can be carried out by a competent person who has had the necessary training to carry out PAT testing. | E31: YES | F31: yes | G31: =IF(F31="YES",0,IF(F31="NO",1,IF(F31="NA",0,IF(F31="",0)))) -> 0 | H31: Carried out annually | J31: 45809
C32: All fuses, circuit breakers etc of correct rating and suitable for purpose. | D32: This is beyond the scope of this fire RA, however, competent electrical contractors should be ensuring that they comply with current approved codes of practice (up to 18th edition at present as from 02/07/2018). | E32: YES | F32: NA | G32: =IF(F32="YES",0,IF(F32="NO",1,IF(F32="NA",0,IF(F32="",0)))) -> 0 | J32: 45809
C33: All fixed electrical equipment subject to maintenance regime by competent person. | D33: All contractors used are required to be qualified for the type of property being operated (commercial), and regular checks carried out with contractors to ensure they maintain their competency. | E33: YES | F33: NA | G33: =IF(F33="YES",0,IF(F33="NO",1,IF(F33="NA",0,IF(F33="",0)))) -> 0 | J33: 45809
C34: All fixed electrical equipment inspected in accordance with legislation. | D34: As detailed above. | E34: YES | F34: Yes | G34: =IF(F34="YES",0,IF(F34="NO",1,IF(F34="NA",0,IF(F34="",0)))) -> 0 | J34: 45809
C35: All faulty electrical equipment switched off and isolated while awaiting repair or replacement. | D35: Not isolating the equipment could result in persons who do not know it is faulty switching it back on, which could result in a fire. If the equipment is beyond repair the plug should be cut off it to prevent it being used. | E35: YES | F35: na | G35: =IF(F35="YES",0,IF(F35="NO",1,IF(F35="NA",0,IF(F35="",0)))) -> 0 | J35: 45809
B36: Total | E36: 70 | G36: =SUM(G29:G35) -> 0
A37: A13 | B37: Static electricity | C37: No apparent risks from static discharge. | D37: Static can build up under certain circumstances, depending on the types of materials used and activities taking place. | E37: YES | F37: NA | G37: =IF(F37="YES",0,IF(F37="NO",1,IF(F37="NA",0,IF(F37="",0)))) -> 0 | J37: 45809
C38: Adequate earth bonding to discharge static electricity safely. | D38: Electrical systems can be bonded to ensure any build up is discharged safely, especially important where there are flammable materials being used or dispensed. | E38: YES | F38: NA | G38: =IF(F38="YES",0,IF(F38="NO",1,IF(F38="NA",0,IF(F38="",0)))) -> 0 | J38: 45809
B39: Total | E39: 20 | G39: =SUM(G37:G38) -> 0
A40: A14 | B40: Lighting equipment | C40: Lighting so arranged that heat from the bulbs cannot give rise to a fire. | D40: Care must be taken to prevent the storage of combustible material near lights. | E40: YES | F40: Yes | G40: =IF(F40="YES",0,IF(F40="NO",1,IF(F40="NA",0,IF(F40="",0)))) -> 0 | J40: 45809
B41: Total | E41: 10 | G41: =SUM(G40) -> 0
A42: A15 | B42: Arson | C42: Substantial security measures in place to guard against unauthorised entry. | D42: Where possible security should be in place to prevent access to buildings, including the outside. | E42: YES | F42: Yes | G42: =IF(F42="YES",0,IF(F42="NO",1,IF(F42="NA",0,IF(F42="",0)))) -> 0 | H42: All doors are locked with mortice key. | J42: 45809
C43: Restricted access to unmanned areas. | D43: Ideally unmanned areas should be locked. | E43: YES | F43: Yes | G43: =IF(F43="YES",0,IF(F43="NO",1,IF(F43="NA",0,IF(F43="",0)))) -> 0 | H43: All doors are locked with mortice key. | J43: 45809
C44: Restricted access to site. | D44: Management plan to consider how to manage trespassing. | E44: YES | F44: Yes | G44: =IF(F44="YES",0,IF(F44="NO",1,IF(F44="NA",0,IF(F44="",0)))) -> 0 | H44: Gate is locked, fence has barbed wire. Position of gate altered several years ago to reduce risk of trespassers in cars. | J44: 45809
B45: Total | E45: 30 | G45: =SUM(G42:G44) -> 0
C46: Scoring: Any individual score of 2 must be addressed immediately | F46: Total | G46: =SUM(G9+G12+G15+G18+G21+G23+G25+G28+G36+G39+G41+G45) -> 0

Sheet Burn
A2: Section B - What can burn? (Fuel, oxygen, gases/fire loading hazards)
A4: Ref | B4: Section B | C4: Question | D4: Advice | E4: PREF ANS | F4: YES/NO /NA | G4: Risk scoring | H4: Comments | I4: Actions required | J4: Date completed
A5: B1 | B5: Flammable liquids, solvents, gases and fuel etc. | C5: Are there no highly flammable substances, liquids or gases in the area other than small quantities of aerosols? | D5: Only quantities for the day's work should be available in the workplace. Substances need to be stored in closed containers. Unused material should be removed to an approved store. | F5: yes | G5: =IF(F5="YES",0,IF(F5="NO",1,IF(F5="NA",0,IF(F5="",0)))) -> 0 | J5: 45809
C6: Are only minimal quantities held? | E6: YES | F6: yes | G6: =IF(F6="YES",0,IF(F6="NO",1,IF(F6="NA",0,IF(F6="",0)))) -> 0 | J6: 45809
C7: Are the flammable substances stored correctly? | D7: Flammable substances should be stored correctly as per H&S guidelines. | E7: YES | F7: NA | G7: =IF(F7="YES",0,IF(F7="NO",1,IF(F7="NA",0,IF(F7="",0)))) -> 0 | J7: 45809
B8: Total | G8: =SUM(G5:G7) -> 0
A9: B2 | B9: Waste materials | C9: Waste to be removed to bins in car park each day or after hire period is ended | D9: Waste should be removed daily. | E9: YES | F9: yes | G9: =IF(F9="YES",0,IF(F9="NO",1,IF(F9="NA",0,IF(F9="",0)))) -> 0 | H9: Bins provided throughout the buidling with notices re emptying them and re-cycling | J9: 45809
D10: Bins should be emptied regularly where they are prone to becoming full, and floors, surface tops, ventillation fans, and windows should be free of dirt and dust. | E10: YES | F10: yes | G10: =IF(F10="YES",0,IF(F10="NO",1,IF(F10="NA",0,IF(F10="",0)))) -> 0 | J10: 44652
B11: Total | G11: =SUM(G9:G10) -> 0
A12: B3 | B12: Wood | C12: Are there no significant quantities stored? | E12: YES | F12: yes | G12: =IF(F12="YES",0,IF(F12="NO",1,IF(F12="NA",0,IF(F12="",0)))) -> 0 | J12: 45809
C13: Are the quantities stored in specific areas with low fire risks? | D13: Wood should never be stored next to buildings or in areas where there are ignition sources, and other fuel, such as gas or heating oil etc. | E13: YES | F13: yes | G13: =IF(F13="YES",0,IF(F13="NO",1,IF(F13="NA",0,IF(F13="",0)))) -> 0 | H13: New wood store installed April 2022 away from building | I13: Regularly check that wood is not being stored under the veranda as had been done previously | J13: 45809
B14: Total | G14: =SUM(G12:G13) -> 0
A15: B4 | B15: Paper & cardboard | C15: Small amount of craft paper/supplies stored in hall cupboard. Paper towels stored in plastic box in hallway. | D15: This may be used for activities, and should be stored in cupboard. | E15: YES | F15: yes | G15: =IF(F15="YES",0,IF(F15="NO",1,IF(F15="NA",0,IF(F15="",0)))) -> 0 | J15: 45809
C16: Are the quantities stored in specific areas with low fire risks? | D16: Storage areas should be in areas where there is low risk of ignition, not too close to any lighting or electrical equipment. | E16: YES | F16: yes | G16: =IF(F16="YES",0,IF(F16="NO",1,IF(F16="NA",0,IF(F16="",0)))) -> 0 | J16: 45809
B17: Total | G17: =SUM(G15:G16) -> 0
A18: B6 | B18: Textiles | C18: A small quantity of blankets/sleeping bags are stored in the cupboard in the Leaders room. | D18: Where bedding and other materials are stored the amount should be minimised to the level of useage by customers. | E18: YES | F18: yes | G18: =IF(F18="YES",0,IF(F18="NO",1,IF(F18="NA",0,IF(F18="",0)))) -> 0 | J18: 45809
C19: Are the quantities stored in specific areas with low fire risks? | E19: YES | F19: yes | G19: =IF(F19="YES",0,IF(F19="NO",1,IF(F19="NA",0,IF(F19="",0)))) -> 0 | J19: 45809
B20: Total | G20: =SUM(G18:G19) -> 0
A21: B7 | B21: Flammable gases | C21: There is no gas on site. | E21: YES | F21: NA | G21: =IF(F21="YES",0,IF(F21="NO",1,IF(F21="NA",0,IF(F21="",0)))) -> 0 | J21: 45809
C22: Campsite users may bring their own gas stoves or similar and their own bottles of gas to use in the outdoor open fronted shelters. | D22: General RA to be updated with advice on gas use and storage and the provisoin on fire fighting equipment. Users are responsible for risk assessing their own activities. | E22: YES | F22: yes | G22: =IF(F22="YES",0,IF(F22="NO",1,IF(F22="NA",0,IF(F22="",0)))) -> 0 | H22: Notice in camp store re gas safety along with a fire blanket for use in camp kitchen | J22: 45809
B23: Total | G23: =SUM(G21:G22) -> 0
A24: B8 | B24: Board walls and ceilings including hardboard, blockboard, chipboard etc. | C24: Are walls and ceilings apparently constructed of fire retardant material? | D24: Where there is fire compartmentalisation within the building, materials used for this must be made from fire retardent material, at least 30 min fire stopping. | E24: YES | F24: yes | G24: =IF(F24="YES",0,IF(F24="NO",1,IF(F24="NA",0,IF(F24="",0)))) -> 0 | J24: 45809
B25: Total | G25: =SUM(G24) -> 0
A26: B9 | B26: Furniture including fixtures & fittings, decorations & artificial flowers & shrubs. | C26: Is furniture apparently constructed of fire retardant material? | D26: Furniture should comply with a number of British standards BS 7177, BS 5867 and BS EN 1101 and 1102. | E26: YES | F26: yes | G26: =IF(F26="YES",0,IF(F26="NO",1,IF(F26="NA",0,IF(F26="",0)))) -> 0 | H26: Mattressess have BS7177 labelling in situ | J26: 45809
C27: Is furniture well maintained? | D27: The furniture should be kept clean and is of sound structure. Check for deterioration of the furniture, such as exposure of the frame, threadbare etc. | E27: YES | F27: yes | G27: =IF(F27="YES",0,IF(F27="NO",1,IF(F27="NA",0,IF(F27="",0)))) -> 0 | J27: 45809
C28: Is the furniture purchased to suitable quality & specifications? | D28: All furniture must comply with the Britich standards for fire retardency. | E28: YES | F28: yes | G28: =IF(F28="YES",0,IF(F28="NO",1,IF(F28="NA",0,IF(F28="",0)))) -> 0 | J28: 45809
C29: Are all decorations fire proof & removed after the event? | D29: Hut users must ensure decorations are either purchased with fire proofing or fire proofed using appropriate fire proofing sprays. | E29: YES | F29: yes | G29: =IF(F29="YES",0,IF(F29="NO",1,IF(F29="NA",0,IF(F29="",0)))) -> 0 | H29: No decorations are present at Ladenford. Any brought in will be part of users RA | J29: 45809
B30: Total | G30: =SUM(G26:G29) -> 0
A31: B10 | B31: Synthetic wall & ceiling coverage such as polystyrene tiles. | C31: Are all synthetic wall and ceiling coverings fire retardant and maintained in good order? | D31: Some synthetic wall and ceiling coverings are not fire retardent and if they catch fire can give off harmful smoke. | E31: YES | F31: NA | G31: =IF(F31="YES",0,IF(F31="NO",1,IF(F31="NA",0,IF(F31="",0)))) -> 0 | J31: 45809
B32: Total | G32: =SUM(G31) -> 0
A33: B11 | B33: Natural airflow | C33: Is there a strict regime of fire doors etc remaining closed and where necessary locked? | D33: Fire doors must remain closed or locked to prevent spread of fire. | E33: YES | F33: yes | G33: =IF(F33="YES",0,IF(F33="NO",1,IF(F33="NA",0,IF(F33="",0)))) -> 0 | J33: 45809
C34: Are all doors, windows and other openings kept closed when not in use and after hours? | D34: Doors and windows should be closed, when they are not being used. | E34: YES | F34: yes | G34: =IF(F34="YES",0,IF(F34="NO",1,IF(F34="NA",0,IF(F34="",0)))) -> 0 | J34: 45809
G35: =SUM(G33:G34) -> 0
A36: B12 | B36: Air conditioning & air handling | C36: Is there no air conditioning or air handling on site? | D36: Where there is air handling systems/air conditioning in place, special provision needs to be taken to ensure that fire is not spread through these systems. | E36: Yes | F36: NA | G36: =IF(F36="YES",0,IF(F36="NO",1,IF(F36="NA",0,IF(F36="",0)))) -> 0 | J36: 45809
C37: Is kitchen ductwork equipment kept clean? | D37: Build up of fats and dirt in ducts can result in the spread of the fire. | E37: YES | F37: yes | G37: =IF(F37="YES",0,IF(F37="NO",1,IF(F37="NA",0,IF(F37="",0)))) -> 0 | H37: part of annual clean | J37: 45809
C38: Are kitchen ductwork and ventilation equipment serviced and maintained? | D38: It is essential that kitchen duct work is deep cleaned at least every 12 months, and automatic shut downs are serviced and tested regularly. | E38: YES | F38: yes | G38: =IF(F38="YES",0,IF(F38="NO",1,IF(F38="NA",0,IF(F38="",0)))) -> 0 | H38: Cooker has domestic hood, not ducted to outside | J38: 45809
B39: Total | G39: =SUM(G36:G38) -> 0
A40: B13 | B40: Oxidising agents and materials | C40: Are there no oxidising agents or materials on site? | D40: Oxidising agents can produce oxygen as part of a chemical process which can make a fire worse. | E40: YES | F40: yes | G40: =IF(F40="YES",0,IF(F40="NO",1,IF(F40="NA",0,IF(F40="",0)))) -> 0 | J40: 45809
C41: Are oxidising materials subject to COSHH regime, used and stored appropriately? | D41: Oxidising agents are part of the normal COSHH regime, however special consideration must be made with regard to storage, mixing with other products. | E41: YES | F41: NA | G41: =IF(F41="YES",0,IF(F41="NO",1,IF(F41="NA",0,IF(F41="",0)))) -> 0 | J41: 45809
C42: Are oxidising agents clearly identified on their containers? | D42: All chemicals must be labelled, to prevent misuse. | E42: YES | F42: NA | G42: =IF(F42="YES",0,IF(F42="NO",1,IF(F42="NA",0,IF(F42="",0)))) -> 0 | J42: 45809
B43: Total | G43: =SUM(G40:G42) -> 0
C44: Scoring: Any individual score of 2 must be addressed immediately | F44: Total | G44: =SUM(G8+G11+G14+G17+G20+G23+G25+G30+G32+G35+G39+G43) -> 0

Sheet Escape
B2: Section C - Escape (safe egress time)
A4: Ref | B4: Section C | C4: Question | D4: Advice | E4: PREF ANS | F4: YES/NO/NA | G4: Risk scoring | H4: Comments | I4: Actions Required | J4: Actions Completed
A5: C1 | B5: Means of escape | C5: Are all occupants able to escape to a place of safety within a reasonable time? | D5: Means of escape is a continuous and unobstructed path of travel from any point in the building to a place of safety. The principle evacuation strategy is one of simultaneous evacuation via the nearest final emergency exit. | E5: YES | F5: Yes | G5: =IF(F5="YES",0,IF(F5="NO",1,IF(F5="NA",0,IF(F5="",0)))) -> 0 | H5: Emergency exit door in main hall, plus exit via corridor (both ends) and back door. All marked on Fire Plan | J5: 45809
C6: Are there enough exits provided, in the right place and alternative routes available should one be affected by fire? | D6: There should be at least two exit routes. Fire protected routes are provided for buildings where there is only one way to get off the floor. | E6: YES | F6: Yes | G6: =IF(F6="YES",0,IF(F6="NO",1,IF(F6="NA",0,IF(F6="",0)))) -> 0 | J6: 45809
C7: Are the types and sizes of exits suitable and sufficient for the number of people likely to need to use them (eg wide enough for wheelchair users)? | D7: Some of the buildings are not suitable for persons in wheelchairs, and therefore, it would be expected that wheelchair users will be allocated suitably provisioned rooms on the ground floor, of properties. | E7: YES | F7: Yes | G7: =IF(F7="YES",0,IF(F7="NO",1,IF(F7="NA",0,IF(F7="",0)))) -> 0 | J7: 45809
C8: Are the final exit doors operating correctly (this is the last door to the place of safety)? | D8: Final exit doors must be unlocked when the premises are in use. Security locked final exits must release on activation of the fire alarm or be fitted with a single action opening device (eg push-bar or pad). | E8: YES | F8: yes | G8: =IF(F8="YES",0,IF(F8="NO",1,IF(F8="NA",0,IF(F8="",0)))) -> 0 | H8: final exit doors that need to be locked overnight for security reasons have keys available either hanging on chain or key left in the lock at the front door with sign asking users to leave key in lock. | J8: 45809
C9: Are all escape routes clearly identifiable, free from obstruction and adequately illuminated? | D9: Fire exit routes should be identified by the green and white 'running man', with arrows. Pictograms with additional text signage should clearly indicate the direction of travel. Illuminated signage improves viewing distances. Fire exit routes must never be obstructed. Obstructions may include furniture, delivered goods or goods awaiting collection. Also included is anything that could cause a slip (eg water leak). A procedure should be in place to manage fire exit routes daily through GAs checking corridors, doors and final exit doors, as part of their routine duties. | E9: YES | F9: yes | G9: =IF(F9="YES",0,IF(F9="NO",1,IF(F9="NA",0,IF(F9="",0)))) -> 0 | H9: All exit doors and routes are marked with illuminated signs. | J9: 45809
C10: Can fire exit signage be clearly seen from all areas? | D10: You should be able to see at least one emergency exit sign from anywhere within the area. | E10: YES | F10: yes | G10: =IF(F10="YES",0,IF(F10="NO",1,IF(F10="NA",0,IF(F10="",0)))) -> 0 | J10: 45809
C11: Is there a clearly identifiable assembly point located well away from the building? | D11: Notices at the breakpoints should indicate where the assembly point is. If possible signage should be placed in the designated assembly area. (This is not always possible in built up areas). | E11: YES | F11: yes | G11: =IF(F11="YES",0,IF(F11="NO",1,IF(F11="NA",0,IF(F11="",0)))) -> 0 | H11: This is the flagpole on the camp site | J11: 45809
C12: Is a reasonable standard of emergency lighting provided? | D12: The minimum requirement for emergency lighting installations should be provision on emergency exit routes, and external lighting if there are no street lights. Emergency lighting should be sufficient to allow an individual to escape via the nearest exit. If no emergency lighting is provided, torches should be available to staff to guide customers out. | E12: YES | F12: yes | G12: =IF(F12="YES",0,IF(F12="NO",1,IF(F12="NA",0,IF(F12="",0)))) -> 0 | H12: Emergency lighting is provided. | I12: Emergency lighting tested as part of the check out procedure, generally every week. | J12: 45809
B13: Total | G13: =SUM(G5:G12) -> 0
A14: C2 | B14: Means of escape for those with disabilities or long term conditions | C14: Do plans & provisions take into account those with disabilities and long term conditions - including wheelchair access, safe havens, hearing and visual impairments and learning disabilities? | D14: Some buildings require additional measures for ensuring the safe evacuation of all occupants, this includes refuges in fire protected areas, additional visual aids such as strobes on detectors to indicate alarm activations. Any evacution plan must ensure that all persons can be evacuated safely by the property management. | E14: YES | F14: yes | G14: =IF(F14="YES",0,IF(F14="NO",1,IF(F14="NA",0,IF(F14="",0)))) -> 0 | J14: 45809
B15: Total | G15: =SUM(G14) -> 0
A16: C3 | B16: Alarm systems | C16: Is a fire alarm system installed? | D16: The area may have combined optical smoke and heat detection that provides L1/M level of detection. This woud be present at high level on ceiling tiles and roof voids. There may be low level detection in all periphery areas and storage areas, and in all corridors and toilets for sleeping accommodation. | E16: YES | F16: yes | G16: =IF(F16="YES",0,IF(F16="NO",1,IF(F16="NA",0,IF(F16="",0)))) -> 0 | H16: New wireless interlinked smoke alarm system and heat detector for the kitchen installed in April 2022 | J16: 45809
C17: Are fire alarm call points and break glass units clearly visible? Are fire action notices displayed? | D17: Record if manual call points (MCPs) are located on escape routes. MCPs must be mounted in conspicuous positions on fire exit routes and by the final fire exit door. In public areas MCPs must be protected by screecher flap covers. Fire action notices should be up to date and display assembly point information as a minimum. | E17: YES | F17: yes | G17: =IF(F17="YES",0,IF(F17="NO",1,IF(F17="NA",0,IF(F17="",0)))) -> 0 | H17: Fire plan and action notices are displayed in main hall and on notice board in the hallway. New manual call points installed in April 2022. | J17: 45809
B18: Total | G18: =SUM(G16:G17) -> 0
A19: C4 | B19: Fire prevention systems | C19: Are sprinklers installed? | D19: Sprinklers will typically be found in fire engineered rooms or some retail stock rooms and store rooms. Check to ensure goods are not stored in close proximity or or that they've been painted over. | E19: NA | F19: NA | G19: =IF(F19="YES",0,IF(F19="NO",1,IF(F19="NA",0,IF(F19="",0)))) -> 0 | J19: 45809
C20: Is a smoke control system installed? | D20: The installed system extracts smoke from within specific areas such as concourses, emergency stairs wells. | E20: NA | F20: NA | G20: =IF(F20="YES",0,IF(F20="NO",1,IF(F20="NA",0,IF(F20="",0)))) -> 0 | J20: 45809
C21: Is kitchen ductwork provided in the area (if applicable)? | D21: Within a number of properties kitchen ductwork will be provided. For simple kitchens in small buildings, baffle plate hoods may be provided. There should be automatic shut down of this ductwork in commercial kitchens, linked to the alarm and gas supply. | E21: YES | F21: NA | G21: =IF(F21="YES",0,IF(F21="NO",1,IF(F21="NA",0,IF(F21="",0)))) -> 0 | J21: 45809
B22: Total | G22: =SUM(G19:G21) -> 0
B23: Scoring: Any individual score of 2 must be addressed immediately. | F23: Total | G23: =SUM(G13+G18+G22+G15) -> 0

Sheet Management control
B2: Section D - Management control
A4: Ref | B4: Section D | C4: Fire procedure and training | D4: Advice | E4: Prefered answer | F4: YES/NO/NA | G4: Risk score | H4: Comments | I4: Actions required | J4: Date completed
A5: D1 | B5: Fire procedure & emergency plan | C5: Is there an evacuation management plan for the building? | D5: A comprehensive plan should be held by the management, which includes roles and responsibilities. For most buildings this will be held in the office with the duty manager and should be current for the area. The evacuation plan is unique to each building on site, but there will be generic similarities with general procedures eg how to call the fire brigade etc. Groups using the self catering facilities should get the full procedure, so they understand what to do, who to contact and how. Procedures on what to do will be provided in each. | E5: Yes | F5: yes | G5: =IF(F5="YES",0,IF(F5="NO",1,IF(F5="NA",0,IF(F5="",0)))) -> 0 | H5: This is part of the Fire Management plan | J5: 45809
C6: Does the emergency plan take into account all foreseeable circumstances and other emergencies (such as floods, gas escapes etc)? | F6: na | G6: =IF(F6="YES",0,IF(F6="NO",1,IF(F6="NA",0,IF(F6="",0)))) -> 0 | J6: 45809
C7: Is the emergency plan made available to all those who need to be aware of it such as for self catering facilities, and groups? | F7: yes | G7: =IF(F7="YES",0,IF(F7="NO",1,IF(F7="NA",0,IF(F7="",0)))) -> 0 | H7: Available on website | J7: 45809
C8: Are procedures to be followed clearly indicated throughout the building? | F8: yes | G8: =IF(F8="YES",0,IF(F8="NO",1,IF(F8="NA",0,IF(F8="",0)))) -> 0 | J8: 45809
C9: Is consideration given to all people likely to be present in the facilities & buildings? | F9: yes | G9: =IF(F9="YES",0,IF(F9="NO",1,IF(F9="NA",0,IF(F9="",0)))) -> 0 | J9: 45809
B10: Total | G10: =SUM(G5:G9) -> 0
A11: D2 | B11: Training in fire procedure & emergency plan | C11: Are all employees familiar with plan, and trained in its use, and involved in testing it? | D11: No employees. Users of Ladenford are provided with the Fire RA, fire management plan and are responsible for carrying out a fire drill on arrival at the premises. Each group using the premises are required to carry out a fire drill. | F11: yes | G11: =IF(F11="YES",0,IF(F11="NO",1,IF(F11="NA",0,IF(F11="",0)))) -> 0 | J11: 45809
C12: Has a fire evacuation drill (or actual evacuation) been carried out in the last 6 months? | F12: yes | G12: =IF(F12="YES",0,IF(F12="NO",1,IF(F12="NA",0,IF(F12="",0)))) -> 0 | J12: 45809
B13: Total | G13: =SUM(G11:G12) -> 0
A14: D3 | B14: End of day safety checks | C14: All windows and doors are closed, including doors held open by automatic release units. | D14: All doors are required to be closed and checked that they're operating properly, including those with automatic door releases. Door furniture should function properly and be checked to ensure that it's not loose. | F14: yes | G14: =IF(F14="YES",0,IF(F14="NO",1,IF(F14="NA",0,IF(F14="",0)))) -> 0 | J14: 45809
C15: Electrical equipment not in use is switched off, and where appropriate, unplugged. | D15: Where electrical equipment is not in use, this should be switched off. | F15: yes | G15: =IF(F15="YES",0,IF(F15="NO",1,IF(F15="NA",0,IF(F15="",0)))) -> 0 | J15: 45809
C16: Smokers materials are not left smouldering and ash trays are left in a safe location. | D16: Look for rubbish build up, paper and boxes poorly stored. Look for dust and general untidiness. Check behind cupboards and in electrical cupboards. Check for flammable liquids not stored appropriately. Check that storage cupboards are locked if appropriate. ensure that all emergency signage is still in place. | F16: na | G16: =IF(F16="YES",0,IF(F16="NO",1,IF(F16="NA",0,IF(F16="",0)))) -> 0 | H16: No smoking is allowed. | J16: 45809
C17: All naked flames are extinguished or left in a safe condition. | F17: yes | G17: =IF(F17="YES",0,IF(F17="NO",1,IF(F17="NA",0,IF(F17="",0)))) -> 0 | H17: Care should be taken when using the stove in the main hall. | J17: 45809
C18: All flammable rubbish and waste is removed to a safe place. | F18: yes | G18: =IF(F18="YES",0,IF(F18="NO",1,IF(F18="NA",0,IF(F18="",0)))) -> 0 | J18: 45809
C19: All highly flammable materials are stored in a safe location. | F19: na | G19: =IF(F19="YES",0,IF(F19="NO",1,IF(F19="NA",0,IF(F19="",0)))) -> 0 | J19: 45809
C20: The workplace and storage areas are secured against unauthorised entry. | F20: yes | G20: =IF(F20="YES",0,IF(F20="NO",1,IF(F20="NA",0,IF(F20="",0)))) -> 0 | J20: 45809
B21: Total | G21: =SUM(G14:G20) -> 0
A22: D5 | B22: Fire awareness and emergency procedures training | C22: Are they aware of the location and use of fire fighting equipment? | D22: Users should be provided with this information. | F22: yes | G22: =IF(F22="YES",0,IF(F22="NO",1,IF(F22="NA",0,IF(F22="",0)))) -> 0 | H22: Fire plan on display with fire fighting equipment marked | J22: 45809
C23: The action to take on discovering a fire. | D23: Refresher training should be carried out at regular intervals to ensure staff know what to do on discovering a fire. | F23: yes | G23: =IF(F23="YES",0,IF(F23="NO",1,IF(F23="NA",0,IF(F23="",0)))) -> 0 | H23: See Fire Management plan | J23: 45809
C24: How to raise the fire alarm. | D24: Staff must know what the procedure is for raising the alarm, as well as customers, using self-catering accommodation. | F24: yes | G24: =IF(F24="YES",0,IF(F24="NO",1,IF(F24="NA",0,IF(F24="",0)))) -> 0 | H24: " | J24: 45809
C25: Fire prevention including housekeeping. | D25: Housekeeping is an essential part of fire prevention. Staff should be aware that they have an important role in ensuring good housekeeping by preventing the build up of rubbish, dust etc on surfaces. | F25: yes | G25: =IF(F25="YES",0,IF(F25="NO",1,IF(F25="NA",0,IF(F25="",0)))) -> 0 | H25: As part of this RA | J25: 45809
C26: The arrangements in place for calling the fire brigade. | D26: With the exception of sites that have automatic call out systems, all other sites will have a duty manager as the main contact. Self-catering buildings are instructed to call the fire brigade, and then the DM. | F26: yes | G26: =IF(F26="YES",0,IF(F26="NO",1,IF(F26="NA",0,IF(F26="",0)))) -> 0 | J26: 45809
C27: The importance of fire check doors. | D27: Staff must be made aware of the importance of fire doors and the need to keep them closed (unless they are on automatic release mechanisms). They should be aware of how the auto release mechanisms operate so that they can report faulty equipment. | F27: Na | G27: =IF(F27="YES",0,IF(F27="NO",1,IF(F27="NA",0,IF(F27="",0)))) -> 0 | J27: 45809
C28: Is a record kept of staff who have completed the fire training? | D28: Records should be kept of all staff training including those present for fire drills. This will identify whether any staff have missed training. Training should be completed annually. | F28: na | G28: =IF(F28="YES",0,IF(F28="NO",1,IF(F28="NA",0,IF(F28="",0)))) -> 0 | J28: 45809
B29: Total | G29: =SUM(G22:G28) -> 0
A30: D6 | B30: Conditions applying to fire risk assessment are being enforced | C30: Risk assessment held on site. | D30: Copies of this risk assessment must be kept on site and available to see as a hard copy and an electronic copy for review purposes. | F30: yes | G30: =IF(F30="YES",0,IF(F30="NO",1,IF(F30="NA",0,IF(F30="",0)))) -> 0 | H30: It is also available on the website | J30: 45809
C31: Do you have an emergency procedure other than for fire? | D31: There should be an emergency procedure for other incidents to fire such as power failure, flooding, structural damage, terrorist threats etc. | F31: yes | G31: =IF(F31="YES",0,IF(F31="NO",1,IF(F31="NA",0,IF(F31="",0)))) -> 0 | J31: 45809
C32: Is your alarm where the tones can be changed? | D32: Some systems have alarms were there are different tones which can indicate different actions. None of the Girlguiding sites have this as part of their systems. | F32: na | G32: =IF(F32="YES",0,IF(F32="NO",1,IF(F32="NA",0,IF(F32="",0)))) -> 0 | J32: 45809
C33: Are fire safety conditions imposed upon external and internal contractors? | D33: All contractors are required to follow emergency procedures. As part of their induction, they will receive a briefing on specific requirements, and if hot works are required, a PTW system is in place. | F33: na | G33: =IF(F33="YES",0,IF(F33="NO",1,IF(F33="NA",0,IF(F33="",0)))) -> 0 | J33: 45809
C34: Is the fire service and local authority notified prior to any structural changes planned for the building? | D34: Any structural changes would require planning permission. A number of the buildings are listed and therefore even more stringent processes are required. | F34: na | G34: =IF(F34="YES",0,IF(F34="NO",1,IF(F34="NA",0,IF(F34="",0)))) -> 0 | J34: 45809
B35: Total | G35: =SUM(G30:G34) -> 0
B36: Scoring: Any individual score of 2 must be addressed immediately. | F36: Total | G36: =SUM(G10+G13+G21+G29+G35) -> 0

Sheet Test & main control
B2: Section E - TESTING AND MAINTENANCE
A4: Ref | B4: Section E | C4: Maintenance & testing | D4: Advice | E4: PREF ANS | F4: YES / NO / NA | G4: Score | H4: Comments | I4: Actions required | J4: Actions completed
A5: E1 | B5: Fire doors and escape routes | C5: Do fire doors meet legislative requirements and are subject to inspection & maintenance regimes? | D5: Where there are older buildings old doors installed originally would have been compliant, however, changes in BR may mean they are not up to present standards. If in good condition eg not warped or gapped, then these may still be compliant, but may need some updating which would include the frame and door furniture, intumescent paint/products etc. Changes in use would require doors certified FS30 or greater to be installed as per BR approved document B. All new fire doors should be CE marked and comply with BS EN 1634-1:2014 or BS parts 22&31, and BS EN1154 for door closers. | E5: YES | F5: yes | G5: =IF(F5="YES",0,IF(F5="NO",1,IF(F5="NA",0,IF(F5="",0)))) -> 0 | H5: Although door are old they are all in good condition and well maintained. | J5: 45809
C6: Are all internal fire compartment or internal doors on fire exit routes labelled as a 'Fire door' | D6: Where doors are designed to form a barrier to fire and smoke, they must carry a blue & white notice showing the condition in which they should be left (eg 'Fire door - keep shut'). | E6: YES | F6: yes | G6: =IF(F6="YES",0,IF(F6="NO",1,IF(F6="NA",0,IF(F6="",0)))) -> 0 | J6: 45809
C7: Are the self-closers on the fire door operating correctly. | D7: A self closer is a device which is designed to ensure a door shuts properly after use. Some doors are held open and release on activation of the fire alarm. Self closures must comply with BS EN1154:1997. | E7: YES | F7: NA | G7: =IF(F7="YES",0,IF(F7="NO",1,IF(F7="NA",0,IF(F7="",0)))) -> 0 | J7: 45809
C8: Is the fire door and frame fit for purpose when the door is closed? | D8: Does the door fit the frame well? Is the glass intact? Are the brushes (or intumescent strips) in place all around the door (this is to stop smoke)? Are there any holes in the door? There should not be more than a 4mm gap (preferably 2mm) between the door and frame, otherwise the intumescent strip will not function properly. Comply to BS EN 1634. | E8: YES | F8: yes | G8: =IF(F8="YES",0,IF(F8="NO",1,IF(F8="NA",0,IF(F8="",0)))) -> 0 | J8: 45809
C9: Considering the construction, are there any penetrations that might contribute to the spread of fire? | D9: Look for penetrations where cables pass through compartment walls, particularly in plantrooms. Fire stopping products are available that will fill the gaps. | E9: YES | F9: na | G9: =IF(F9="YES",0,IF(F9="NO",1,IF(F9="NA",0,IF(F9="",0)))) -> 0 | J9: 45809
B10: Total | G10: =SUM(G1:G9) -> 0
A11: E2 | B11: Evacuation signage | C11: Clear fire evacuation instructions posted for all hall users. | D11: Action notices should be prominently displayed near exit routes and fire doors. | E11: YES | F11: yes | G11: =IF(F11="YES",0,IF(F11="NO",1,IF(F11="NA",0,IF(F11="",0)))) -> 0 | H11: Escape routes marked by emergency lit signage and indicated on evacuation plan | J11: 45809
C12: Are escape routes clearly identified using signage in accordance with legislation, leading to a safe place & are they regularly inspected to ensure that they're kept clear? | D12: Fire escape routes must be kept clear at all times. Signage must be compliant with the Health & Safety (Safety Signs and Signals) Regulations 1996. They should provide a clear direction of escape from any point in the building, visible to reflect hazards. Signage for extinguishers (including operation) and action notices should be clear and unobstructed. | E12: YES | F12: yes | G12: =IF(F12="YES",0,IF(F12="NO",1,IF(F12="NA",0,IF(F12="",0)))) -> 0 | J12: 45809
B13: Total | G13: =SUM(G11:G12) -> 0
A14: E3 | B14: Emergency lighting | C14: Is the emergency lighting subject to inspection, testing & maintenance regimes? | D14: Emergency lighting should be maintained and tested on a regular basis as part of a maintenance regime. The regime will be dictated by the type of emergency lighting installed eg self contained (single point). | E14: YES | G14: =IF(F14="YES",0,IF(F14="NO",1,IF(F14="NA",0,IF(F14="",0)))) -> 0 | H14: testing regime added to check out procedure | J14: 45809
B15: Total | G15: =SUM(G14) -> 0
A16: E4 | B16: Fire alarm systems | C16: Fire alarm system installed and audible throughout the building. | D16: Fire alarms systems must be audible to all occupants of the building. It is not a statutory requirement to have an automatic fire alarm system installed, unless there is sleeping accommodation in the building. | E16: YES | F16: yes | G16: =IF(F16="YES",0,IF(F16="NO",1,IF(F16="NA",0,IF(F16="",0)))) -> 0 | H16: New manual call points and alarm installed April 2022 | J16: 45809
C17: Automatic detectors installed where required. | D17: Automatic smoke and heat detectors are installed in appropriate places, such as sleeping quarters, escape corridors. Storage areas, that may have flammables stored, or combustable materials, along with boiler houses, and commercial kitchens. | E17: YES | F17: yes | G17: =IF(F17="YES",0,IF(F17="NO",1,IF(F17="NA",0,IF(F17="",0)))) -> 0 | H17: New interlinked lithium battery smoke alarms and heat detector installed in April 2022 | J17: 45809
C18: System maintained by competent person. | D18: Fire safety systems must be installed and maintained by competent people. This is usually specialist contractors, who install and maintain these systems all the time. | E18: YES | F18: yes | G18: =IF(F18="YES",0,IF(F18="NO",1,IF(F18="NA",0,IF(F18="",0)))) -> 0 | H18: Installed by electrician and battery life is 10 years. | J18: 45809
C19: Is the fire alarm tested as part of a weekly scheduled programme (labelled manual call points)? | D19: The fire alarm system is required to be tested every week, via activating manual call points on a rota system. During this test, automatic door closures will need to be checked that they have activated, to ensure they have closed during the test. | E19: YES | F19: yes | G19: =IF(F19="YES",0,IF(F19="NO",1,IF(F19="NA",0,IF(F19="",0)))) -> 0 | H19: This has been added to check out procedure | J19: 45809
C20: Full inspection of alarm system carried out at least annually. | D20: The alarm system will be required to be checked and serviced annually. Where there are many automatic detectors, 25% of these will be tested every 3 months. | E20: YES | F20: yes | G20: =IF(F20="YES",0,IF(F20="NO",1,IF(F20="NA",0,IF(F20="",0)))) -> 0 | H20: The fire alarm system to be checked annually at the same time as the PAT testing. | I20: To ask electrician to do this | J20: 45809
C21: Clear operating instructions posted for employees, visitors and contractors. | D21: There needs to be operating instructions placed next to the control panel, identifying how to operate the system, including, notifying the emergency services, and other personnel on site. | E21: YES | F21: na | G21: =IF(F21="YES",0,IF(F21="NO",1,IF(F21="NA",0,IF(F21="",0)))) -> 0 | H21: There is no control panel with the system of lithium battery operated fire alarm - manual call points. Instructions re contacting emergency services are part of the fire management plan | J21: 45809
B22: Total | G22: =SUM(G16:G21) -> 0
A23: E5 | B23: Records retained covering the maintenance and testing of fire fighting equipment | C23: Are records kept covering the maintenance and testing of fire extinguishers, | D23: Equipment should be inspected every 12 months (except where P50 foam/powder are installed), and have a label showing the date of inspection. | E23: YES | F23: yes | G23: =IF(F23="YES",0,IF(F23="NO",1,IF(F23="NA",0,IF(F23="",0)))) -> 0 | H23: Recorded as part of the fire RA | J23: 45809
B24: Total | G24: =SUM(G23:G23) -> 0
A25: E6 | B25: Records retained covering the maintenance and testing of fire prevention equipment | C25: Are records kept covering the maintenance and testing of fire alarm weekly test? | D25: A record is required of all weekly tests and other activations including false alarms and response by staff. | E25: YES | F25: yes | G25: =IF(F25="YES",0,IF(F25="NO",1,IF(F25="NA",0,IF(F25="",0)))) -> 0 | H25: This is one of the weekly checks to be done as part of the check out procedure. | J25: 45809
C26: Are records kept covering the maintenance and testing of the fire alarm annual service? | D26: A competent person/contractor should be appointed to undertake the servicing of the fire alarm system, to the manufacturers recommendations. When contractors carry out maintenance they should either sign the record book with an outline of what work was carried out or provide an engineers report sheet, with all the details of what was carried out. | E26: YES | F26: yes | G26: =IF(F26="YES",0,IF(F26="NO",1,IF(F26="NA",0,IF(F26="",0)))) -> 0 | J26: 45809
C27: Are records kept covering the maintenance and checking of fire check doors? | D27: If they are certified fire doors, check the certification which will be located on the top edge of the door, they should also be CE marked. Other doors that were installed many years previously, and at the time were compliant may still be capable of resisting fire for 30 minutes. Formal 6 monthly checks should be carried out to ensure the integrity of fire doors. Where appropriate if faults found, action should be carried out and recorded. | E27: YES | F27: yes | G27: =IF(F27="YES",0,IF(F27="NO",1,IF(F27="NA",0,IF(F27="",0)))) -> 0 | H27: They are not certified fire doors but solid doors capable of resisting fire for a short time. They are labelled as fire doors even though they are not "certified". | J27: 45809
C28: Are dry risers provided and are these serviced and tested? | D28: Dry risers are only present in the HQ building. Dry risers, should have fire doors installed at every level, with an automatic smoke detector at the highest level. This should be clear of any storage items, and accessible for maintenance purposes. | E28: YES | F28: na | G28: =IF(F28="YES",0,IF(F28="NO",1,IF(F28="NA",0,IF(F28="",0)))) -> 0 | J28: 45809
C29: Are records kept covering the maintenance and testing of riser doors. | D29: Riser doors are required to be checked every 6 months, the same as other fire check doors. | E29: YES | F29: na | G29: =IF(F29="YES",0,IF(F29="NO",1,IF(F29="NA",0,IF(F29="",0)))) -> 0 | J29: 45809
C30: Records kept covering the maintenance and testing of steel shutter doors. | D30: Testing is required for any automatic operated steel shutters. Safety devices must be fiitted to automatic powered roller shutters, to comply with Regulation 5 and 18 of Workplace (HSW) Regs 1992, and the RRFSO 2005. And comply with BSEN 12635:2002. | E30: NA | F30: na | G30: =IF(F30="YES",0,IF(F30="NO",1,IF(F30="NA",0,IF(F30="",0)))) -> 0 | J30: 45809
C31: Records kept covering the maintenance and testing of smoke extraction systems. | D31: Smoke extraction systems, should operate on activation of the fire alarm system, and are required to be checked and serviced in line with BS9999. | E31: NA | F31: na | G31: =IF(F31="YES",0,IF(F31="NO",1,IF(F31="NA",0,IF(F31="",0)))) -> 0 | J31: 45809
C32: Records kept on the maintenance of kitchen extractors/ductwork, incl emergency gas interlock shut off systems. | D32: Kitchen ductwork requires to be serviced and deep cleaned on an annual basis. Emergency gas shut down systems require to be serviced annually and tested on a weekly basis. | F32: yes | G32: =IF(F32="YES",0,IF(F32="NO",1,IF(F32="NA",0,IF(F32="",0)))) -> 0 | H32: No gas on premises. Cooker extractor is domestic type with no outside exit and is cleaned regularly. | J32: 44713
B33: Total | G33: =SUM(G25:G32) -> 0
B34: Scoring: Any individual score of 2 and above must be addressed immediately | F34: Total | G34: =SUM(G10+G13+G15+G22+G24+G33) -> 0

Sheet Actions
A1: Action plan
A2: Section ref. | B2: Corrective actions required | C2: Priority | D2: Action owner | E2: Closed date
A3: A3 | B3: Does immersion heater need to be serviced? Answer from electrician and plumber - NO | D3: Carol | E3: 44694
A4: A4 | B4: Electrical items need PAT testing | C4: Urgent | D4: Lesley | E4: 44694
A5: A5 | B5: " | C5: Urgent | D5: Lesley | E5: 44694
A6: B9 | B6: Age of beds in leaders room unknown, check fire resistance | C6: Urgent | D6: Carol | E6: 44896
A7: D6 | B7: Require a plan for other emergencies such as flood, power failure | D7: Carol | E7: 44722
A8: E1 | B8: "Fire doors" require stickers saying leave closed fire door | D8: Carol | E8: 44733
A9: A2 | B9: New multi-fuel stove installed in main hall to replace open fire. New instructions and RA to be updated. Users to be informed of change and the need to read the instrucion booklet kept by the fireplace. | C9: Urgent | D9: Carol | E9: 45821

Sheet Periodic review
A1: Fire risk assessment periodic review form
A2: Location: | B2: Ladenford Den
A5: Date of review: | B5: Every April and September
A7: Persons present:
A8: Name: | B8: Signature:
A10: Carol Edwards
A14: Significant findings | B14: Remedial actions | C14: Action owner | D14: Action by date | E14: Action completed date
A15: Beds in leaders room checked | B15: none required | C15: Carol | D15: Urgent | E15: 44896
A16: No change to other points | B16: none | C16: Carol | E16: 44805
A17: No change | B17: none | C17: Carol | E17: 45017
A18: No changes | B18: none | C18: Carol | E18: 45170
A19: No changes | B19: none | C19: Carol | E19: 45383
A20: No changes | B20: none | C20: Carol | E20: 45748
A21: No changes, except add stove | B21: none | C21: Carol | E21: 45809
B22: none | C22: Carol | E22: 45931
A46: Periodic review signed off (all actions complete)

Sheet Floor plans & photos
A2: Place plans and photos on this sheet

Sheet General notice
A1: General Notice
A2: Any queries regarding this notice should be referred to the Ladenford Den Committee
A3: Date: 22/4/22
A4: Subject: Fire Risk Assessment at Ladenford Den
A5: It is the responsibility of all site managers to ensure that relevant General Notices are brought to
A6: the attention of their staff. However individuals remain responsible for their own actions and
A7: those who are in any doubt should consult their supervisor or manager.
A8: 1. Introduction
A9: 1.1 This instruction relates to The Regulatory Reform (Fire Safety) Order 2005 ("the Order").
A10: 1.2 The Order introduced fire safety rules affecting all non-domestic premises in England and Wales
A11: and became law on 1st October 2006.
A12: 1.3 The Order makes individual companies responsible for their own fire safety and they will be expected
... A81: please contact Carol Edwards tel:07903122714; email: CJEPanmure@aol.com
